Workbook

Sheet Scheda A
A1: ALLEGATO I - SCHEDA A : PROGRAMMA TRIENNALE DELLE OPERE PUBBLICHE 2025/2027
A2: PROVINCIA DI ORISTANO
A4: QUADRO DELLE RISORSE NECESSARIE ALLA REALIZZAZIONE DEL PROGRAMMA (1)
A6: TIPOLOGIA RISORSE | B6: Arco temporale di validità del programma
B7: Disponibilità finanziaria | E7: Importo Totale
B8: Primo anno | C8: Secondo anno | D8: Terzo anno
A9: risorse derivanti da entrate aventi destinazione vincolata per legge | B9: 20472832 | C9: ='Scheda D'!Q63 -> 23929391 | D9: ='Scheda D'!R63 -> 17347879 | E9: =(B9+C9+D9) -> 61750102
A10: risorse derivanti da entrate acquisite mediante contrazione di mutuo | B10: 0 | C10: 0 | D10: 0 | E10: =B10+C10+D10 -> 0
A11: risorse acquisite mediante apporti di capitali privati | B11: 0 | C11: 0 | D11: 0 | E11: =B11+C11+D11 -> 0
A12: stanziamenti di bilancio | B12: 666072.42 | C12: 0 | D12: 0 | E12: =+B12+C12+D12 -> 666072.42
A13: finanziamenti acquisibili ai sensi dell'articolo 3 del decreto-legge 31 ottobre 1990, n. 310, convertito con modificazioni dalla legge 22 dicembre 1990, n. 403 | B13: 0 | C13: 0 | D13: 0 | E13: =B13+C13+D13 -> 0
A14: risorse derivanti da trasferimento di immobili ex art.191 D.Lgs. 50/2016 (SCHEDA C) | B14: 0 | C14: 0 | D14: 0 | E14: =B14+C14+D14 -> 0
A15: Altra tipologia | B15: 0 | C15: 0 | D15: 0 | E15: =B15+C15+D15 -> 0
A16: Totali | B16: =SUM(B9:B15) -> 21138905 | C16: =SUM(C9:C15) -> 23929391 | D16: =SUM(D9:D15) -> 17347879 | E16: =SUM(E9:E15) -> 62416175
C21: Il referente del programma
C23: Ing. Graziano Plana
A25: Annotazioni
A26: (1) I dati del quadro delle risorse sono calcolati come somma delle informazioni elementari relative a ciascun intervento di cui alla scheda E e alla scheda C. Dette informazioni sono acquisite dal sistema (software) e rese disponibili in banca dati ma non visualizzate nel programma.

Sheet Scheda B
A1: ALLEGATO I - SCHEDA B: PROGRAMMA TRIENNALE DELLE OPERE PUBBLICHE 2025/2027
A2: PROVINCIA DI ORISTANO
A4: ELENCO DELLE OPERE INCOMPIUTE
A8: Elenco delle Opere Incompiute
A9: CUP (1) | B9: Descrizione Opera | C9: Determinazioni dell'amministrazione | D9: ambito di interesse dell'opera | E9: anno ultimo quadro economico approvato | F9: Importo complessivo dell'intervento (3) | G9: Importo complessivo lavori (4) | H9: Oneri necessari per l'ultimazione dei lavori | I9: Importo ultimo SAL | J9: Percentuale avanzamento lavori (4) | K9: Causa per la quale l'opera è incompiuta | L9: L'opera è attualmente fruibile, anche parzialmente, dalla collettività? | M9: Stato di realizzazione ex comma 2 art.1 DM 42/2013 | N9: Possibile utilizzo ridimensionato dell'Opera | O9: Destinazione d'uso | P9: Cessione a titolo di corrispettivo per la realizzazione di altra opera pubblica ai sensi dell’articolo 191 del Codice | Q9: Vendita ovvero demolizione (5) | R9: Parte di infrastruttura di rete
A11: codice | B11: testo | C11: Tabella B.1 | D11: Tabella B.2 | E11: aaaa | F11: valore | G11: valore | H11: valore | I11: valore | J11: percentuale | K11: Tabella B.3 | L11: si/no | M11: Tabella B.4 | N11: si/no | O11: Tabella B.5 | P11: si/no | Q11: si/no | R11: si/no
A12: F18G06000070003 | B12: Lavori di completamento ex università di Oristano | C12: Si intende riprendere l'esecuzione dell'opera una volta reperiti i necessari finanziamenti aggiuntivi | D12: Regionale | E12: 2009 | F12: 2680000 | G12: 0 | H12: 3000000 | I12: 0 | J12: 0 | K12: Fallimento della ditta | L12: no | M12: Lettera B | N12: no | O12: lettera B | P12: no | Q12: no | R12: no
A13: Precedente al 01/01/2003 | B13: Circonvallazione dell'abitato di Bonarcado | C13: Si intende riprendere l'esecuzione dell'opera una volta reperiti i necessari finanziamenti aggiuntivi | D13: Nazionale | E13: Precedente al 01/01/2003 | F13: Precedente al 01/01/2003 | G13: 100% 1° lotto | H13: 10000000 | J13: 100% 1° lotto | K13: mancanza di fondi | L13: sì | M13: 1° lotto ultimato | N13: no | O13: prevista in progetto | P13: no | Q13: no | R13: sì
A14: ='Scheda D'!C24 -> G17H03000130001 | B14: CIRCONVALLAZONE DI ORISTANO | C14: Progetto di completamento in fase di aggiornamento | D14: Nazionale | E14: 2022 | F14: 10000000 | G14: 3763397.8 | H14: 2000000 | I14: 2237727.5 | J14: 60 | K14: Risoluzione del contratto | L14: si | M14: b) | N14: sì | O14: prevista in progetto | P14: no | Q14: no | R14: si
A15: ='Scheda D'!C23 -> F17H19000130002 | B15: ='Scheda D'!N23 -> Cavalca ferrovia SP 53 Santa Giusta | C15: Progetto di completamento in fase di aggiornamento | D15: Regionale | E15: 2022 | F15: 300000 | G15: 195014.97 | H15: 150000 | I15: 0 | J15: 0 | K15: Risoluzione del contratto | L15: sì | M15: d) | N15: sì | O15: prevista in progetto | P15: no | Q15: no | R15: sì
A16: ='Scheda D'!C22 -> F67H16001880002 | B16: ='Scheda D'!N22 -> Intervento di risanamento strutturale del ponte ad arco sul fiume Tirso lungo la SP 24 km 17+200 nel comune di Sedilo | C16: Progetto di completamento in fase di aggiornamento | D16: Regionale | E16: 2020 | F16: 300000 | G16: 300000 | H16: 150000 | I16: 0 | J16: 0 | K16: Risoluzione del contratto | L16: si | M16: d) | N16: sì | O16: prevista in progetto | P16: no | Q16: no | R16: si
F18: =+F12 -> 2680000 | G18: 0 | H18: =+H12+H13 -> 13000000 | I18: 0
A19: Note
A20: (1) Indica il CUP del progetto di investimento nel quale l'opera incompiuta rientra: è obbligatorio per tutti i progetti avviati dal 1 gennaio 2003
A21: (2) Indica l'eventuale Cup master dell'ogetto progettuale al quale l'opera è eventualmente associata
A22: (3) Importo riferito all'ultimo quadro economico approvato | M22: Il referente del programma
A23: (4) Percentuale di avanzamento dei lavori rispetto all'ultimo progetto approvato
A24: (5) In caso di vendita l'immobile deve essere riportato nell'elenco di cui alla scheda C ; in caso di demolizione l'intervento deve essere riportato fra gli interventi del programma di cui alla scheda D | M24: Ing. Graziano Plana
A26: Tabella B.1
A27: a) è stata dichiarata l'insussistenza dell'interesse pubblico al completamento ed alla fruibilità dell'opera
A28: b) si intende riprendere l'esecuzione dell'opera senza necessari finanziamenti aggiuntivi
A29: c) si intende riprendere l'esecuzione dell'opera avendo già reperito i necessari finanziamenti aggiuntivi
A30: d) si intende riprendere l'esecuzione dell'opera una volta reperiti i necessari finanziamenti aggiuntivi
A32: Tabella B.2
A33: a) nazionale
A34: b) regionale
A36: Tabella B.3
A37: a) mancanza di fondi
A38: b1) cause tecniche: protrarsi di circostanze speciali che hanno determinato la sospensione dei lavori e/o l'esigenza di una variante progettuale
A39: b2) cause tecniche: presenza di contenzioso
... A54: Descrizione dell'opera
A55: Dimensionamento dell'intervento (unità di misura) | C55: unità di misura
A56: Dimensionamento dell'intervento (valore) | C56: valore (mq, mc …)
A57: L'opera risulta rispondente a tutti i requisiti del capitolato | C57: si/no
A58: L'opera risulta rispondente a tutti i requisiti dell'ultimo progetto approvato | C58: si/no
A59: Fonti di finanziamento (se intervento lavoro di completamento non incluso in scheda D)
A60: Sponsorizzazione | C60: si/no
A61: Finanza di progetto | C61: si/no
A62: Costo progetto | C62: importo
A63: Finanziamento assegnato | C63: importo
...

Sheet Scheda C
A1: ALLEGATO I - SCHEDA C : PROGRAMMA TRIENNALE DELLE OPERE PUBBLICHE 2025/2027
A2: PROVINCIA DI ORISTANO
A4: ELENCO DEGLI IMMOBILI DISPONIBILI
A8: Elenco degli immobili disponibili art. 202 del codice
A9: Codice univoco immobile (1) | B9: Riferimento CUI intervento (2) | C9: Riferimento CUP Opera Incompiuta (3) | D9: Descrizione immobile | E9: Codice Istat | H9: localizzazione - CODICE NUTS | I9: Cessione o trasferimento immobile a titolo corrispettivo ex art.21 comma 5 e art.191 comma 1 (Tabella C.1) | J9: Concessi in diritto di godimento, a titolo di contributo ex articolo 21 comma 5 (Tabella C.2) | K9: Già incluso in programma di dismissione di cui art.27 DL 201/2011, convertito dalla L. 214/2011 (Tabella C.3) | L9: Tipo disponibilità se immobile derivante da Opera Incompiuta di cui si è dichiarata l'insussistenza dell'interesse (Tabella C.4) | M9: Valore Stimato
E10: Reg | F10: Prov | G10: Com | M10: Primo anno | N10: Secondo anno | O10: Terzo anno | P10: Totale
A11: codice | B11: codice | C11: codice | D11: testo | E11: cod | F11: cod | G11: cod | H11: codice | I11: Tabella C.1 | J11: Tabella C.2 | K11: Tabella C.3 | L11: Tabella C.4 | M11: valore | N11: valore | O11: valore | P11: somma
M12: 0 | N12: 0 | O12: 0 | P12: 0
J16: Il referente del programma
A17: Note:
J18: Ing. Graziano Plana
A19: (1) Codice obbligatorio: numero immobile = cf amministrazione + prima annualità del primo programma nel quale l'immobile è stato inserito + lettera "i" ad identificare l'oggetto immobile e distinguerlo dall'intervento di cui al codice CUI + progressivo di 5 cifre
A20: (2) Riportare il codice CUI dell'intervento (nel caso in cui il CUP non sia previsto obbligatoriamente) al quale la cessione dell'immobile è associata; non indicare alcun codice nel caso in cui si proponga la semplice alienazione
A21: (3) Se derivante da opera incompiuta riportare il relativo codice CUP
A24: Tabella C.1
A25: 1. no
A26: 2. parziale
A27: 3. totale
A29: Tabella C.2
A30: 1. no
A31: 2. si, cessione
A32: 3. si, in diritto di godimento, a titolo di contributo, la cui utilizzazione sia strumentale e tecnicamente connessa all'opera da affidare in concessione
A34: Tabella C.3
... A42: 3. vendita al mercato privato

Sheet Scheda E
A1: ALLEGATO I - SCHEDA E: PROGRAMMA TRIENNALE DELLE OPERE PUBBLICHE 2025/2027
A2: PROVINCIA DI ORISTANO
A4: INTERVENTI RICOMPRESI NELL'ELENCO ANNUALE
A7: CODICE UNICO INTERVENTO - CUI | B7: CUP | C7: DESCRIZIONE INTERVENTO | D7: RESPONSABILE UNICO DEL PROGETTO | E7: Importo annualità | F7: IMPORTO INTERVENTO | G7: Finalità | H7: Livello di priorità | I7: Conformità Urbanistica | J7: Verifica vincoli ambientali | K7: LIVELLO DI PROGETTAZIONE | L7: CENTRALE DI COMMITTENZA O SOGGETTO AGGREGATORE AL QUALE SI INTENDE DELEGARE LA PROCEDURA DI AFFIDAMENTO | N7: Intervento aggiunto o variato a seguito di modifica programma | O7: verifiche del 18/03/2025 – Roberta U. | S7: verifiche del 31/03/2025 Roberta con Simonetta il 31/03/2025.
L8: codice AUSA | M8: denominazione
A10: Codice | B10: Ereditato da scheda D | C10: Ereditato da scheda D | D10: Ereditato da scheda D | E10: Ereditato da scheda D | F10: Ereditato da scheda D | G10: Tabella E.1 | H10: Ereditato da scheda D | I10: si/no | J10: si/no | K10: Tabella E.2 | L10: codice | M10: testo | N10: Ereditato da scheda D
A11: ='Scheda D'!A12 -> 80004010957202200002 | B11: ='Scheda D'!C12 -> F27H19000100002 /F31B21004750003 | C11: Lavori di Messa in sicurezza dei ponti sulla SP 9 sul Rio Mannu a Bauladu e sul Rio Cispiri a Milis | D11: ='Scheda D'!E12 -> Fabrizio Pibi | E11: 1714707.2 | F11: ='Scheda D'!T12 -> 1909514.5 | G11: ADN | H11: 1 | I11: si | J11: si | K11: 2 | O11: cap. 255297 | P11: ho rettificato l'importo in 1.714.707,17 come iscritto nel 2025
A12: ='Scheda D'!A13 -> 80004010957202200004 | B12: ='Scheda D'!C13 -> F17H21007230001 | C12: Lavori di Messa in sicurezza dei ponti lungo la S.P. 97 | D12: ='Scheda D'!E13 -> Giuseppe Orrù | E12: ='Scheda D'!P13 -> 805070.53 | F12: ='Scheda D'!T13 -> 805070.53 | G12: ADN | H12: 1 | I12: si | J12: si | K12: 3 | O12: da richiamare dall'AV. E 5525 S 255295 nel 2024 | S12: ok
A13: 80004010957202200005 | B13: F17H21007210001 | C13: Lavori di demolizione e ricostruzione degli attraversamenti stradali lungo la SP 74 | D13: Giuseppe Orrù | E13: 300000 | F13: 330000 | G13: ADN | H13: 1 | I13: si | J13: si | K13: 2 | O13: da richiamare dall'AV.E 5525 S 255296 nel 2024 | S13: ok
A14: 80004010957202300011 | B14: ='Scheda D'!C16 -> F87H22004580001 | C14: ='Scheda D'!N16 -> MESSA IN SICUREZZA A TRATTI SALTUARI DELLA S.P. N. 33 DA FINE ABITATO DI SAMUGHEO A LIMITE PROVINCIA NUORO | D14: ='Scheda D'!E16 -> Alessandro Serra | E14: ='Scheda D'!P16 -> 1058982.5 | F14: ='Scheda D'!T16 -> 1058982.5 | G14: ADN | H14: 1 | I14: si | J14: si | K14: 3 | O14: Rimodulato con le economie degli interventi SP 33. da attendere la delibera del riccertamento (N.B. nel riacc al 31 12 2024 vi è € 236.936,04 . cap. 253547- E 5539 - in bilancio 570.969. | S14: cap 253231 e 253232/1 – già richiamati dall’AV nel 2025 (117.538,74+ 133.538,74)
A15: 80004010957202300016 | B15: F67H22001480001 | C15: ACCORDO QUADRO MANUTENZIONE STRAORDINARIA DELLE STRADE PROVINCIALI n.36 dal km. 0,000 al km.7+750 n.38 da l km.14+900 al km.22+600 e n. 48 DAL KM 3+850AL KM 9+300.PIANO COMPLEMENTARE PNRR. | D15: Fabrizio Pibi | E15: 667700 | F15: 1335400 | G15: ADN | H15: 1 | I15: si | J15: si | O15: già iscritti in bilancio E 5537 - S 255312 | S15: ok
A16: 80004010957202400021 | B16: G17H03000130001 | C16: CIRCONVALLAZONE DI ORISTANO - completamento a seguito di risoluzione | D16: ='Scheda D'!E24 -> Giampaolo Enna | E16: 3060987.6 | F16: 3396000 | G16: MIS | H16: 2 | I16: si | J16: si | K16: 2 | O16: da vedere bene con il RUP | S16: da vedere bene
B17: F17H21007180001 | C17: PROGETTAZIONE DEI LAVORI DI DEMOLIZIONE E RICOSTRUZIONE ATTRAVERSAMENTI STRADALI LUNGO LA SP 15 | D17: ='Scheda D'!E25 -> Giuseppe Orrù | E17: ='Scheda D'!P25 -> 552156.91 | F17: =E17 -> 552156.91 | G17: ADN | H17: 1 | I17: si | J17: si | K17: 2 | O17: D.M. 225/2021 da richiamare dall'AV. E 5525 -S Cap. 255324 - es.2024 rif del 104/2024 | S17: ok
A18: 80004010957202100023 | B18: F17H21007190001 | C18: PROGETTAZIONE DEI LAVORI DI DEMOLIZIONE E RICOSTRUZIONE ATTRAVERSAMENTI STRADALI LUNGO LA SP 31 AL KM 0+900. | D18: ='Scheda D'!E26 -> Giuseppe Orrù | E18: ='Scheda D'!P26 -> 281030.22 | F18: =E18 -> 281030.22 | G18: ADN | H18: 1 | I18: si | J18: si | K18: 2 | O18: DM 225 2001 Da richiamare dall'Av. Cap. 255314 Cap 5525 Es 2024 rif del 104/2024 | S18: ok
A19: 80004010957202200028 | B19: F47H19000100002 | C19: MESSA IN SICUREZZA DELLE INTERSEZIONI TRA LE SS.PP. 10 E 11 (NARBOLIA-RIOLA), SS.PP. 1 E 60 (NURAXINIEDDU - BARATILI S. PIETRO), SS.PP. 69-50 (ARBOREA LURI) – COMPLETAMENTO CIRCONVALLAZIONE DI SAN VERO MILIS | D19: Alessandro Serra | E19: 623072.26 | F19: =E19 -> 623072.26 | G19: ADN | H19: 1 | I19: si | J19: si | K19: 2 | O19: Fin RAS Da richiamare dall'Av. Cap. 255323 Cap 5702 Es 2024 rif del 104/2024 | S19: ok
A20: 80004010957202300034 | B20: F15F23000190001 | C20: MESSA IN SICUREZZA DELL'INFRASTRUTTURA COSTITUITA DAL PONTE SUL FIUME TIRSO (USCITA ORISTANO) E DEI VIADOTTI IN LOCALITÀ RIMEDIO (S.P. N. 54) | D20: ='Scheda D'!E33 -> Giuseppe Orrù | E20: 519861.29 | F20: 1039722.6 | G20: ADN | H20: 1 | I20: si | J20: si | K20: 1 | O20: DM 125/2022 - una parte da richiamare una parte già iscritta.iscritta nel 2024 cap 255325 5538 | S20: da richiamare dall'AV. 519.861,29
A21: 80004010957202300020 | B21: ='Scheda D'!C22 -> F67H16001880002 | C21: Intervento di risanamento strutturale del ponte ad arco sul fiume Tirso lungo la SP 24 km 17+200 nel comune di Sedilo | D21: ='Scheda D'!E22 -> Alessandro Serra | E21: 291750 | F21: ='Scheda D'!T22 -> 300000 | G21: ADN | H21: 1 | I21: si | J21: si | K21: 3 | O21: 291.750 nel 2023 come stanz. Cap 5707 e nel riacc portato in Av. | S21: da richiamare dal'AV. 291.750,00
A22: 80004010957202400020 | B22: ='Scheda D'!C23 -> F17H19000130002 | C22: Cavalca ferrovia SP 53 Santa Giusta | D22: ='Scheda D'!E23 -> Alessandro Serra | E22: 150000 | F22: ='Scheda D'!T23 -> 400000 | G22: ADN | H22: 1 | I22: si | J22: si | K22: 3 | O22: risultano già iscritti 150.000,00 nel 2025 | S22: già iscritti.
A23: 80004010957202400031 | B23: ='Scheda D'!C29 -> F97H24001610002 | C23: INTERVENTI URGENTI MANUTENZIONE STRADALE SU SS.PP. 36, 39 E 67 | D23: ='Scheda D'!E29 -> Giuseppe Orrù | E23: =1890000+45000 -> 1935000 | F23: ='Scheda D'!T29 -> 2000000 | G23: ADN | H23: 1 | I23: si | J23: si | K23: 1 | O23: risultano già iscritti 500.000,00 nel 2025- nel 2024 erano stati iscritti 1.500.000 - accertati nel 2024 € 45.000 | S23: non risultano essere stati impegnati nel 2024 i 1.500.000,00 iscritti nello stesso anno Richiamare dall' av 45.000,00 e iscrivere in entrata e spesa 1.455.000,00 cap. 255309 e 4992
A24: 80004010957202400037 | B24: ='Scheda D'!C36 -> F77H24000770001 | C24: ='Scheda D'!N36 -> Lavori di ricostruzione dell'attraversamento stradale al km 6+750 della SP 71 (Busachi - Samugheo) | D24: ='Scheda D'!E36 -> Michele Scanu | E24: 421368.71 | F24: ='Scheda D'!T36 -> 500000 | G24: ADN | H24: 1 | I24: si | J24: si | K24: 1 | O24: ho modificato l'importo da 500.000 a 421.368,7. Infatti cap.255306/0 - nel 2025 stanz . Att. € 421.368,71 (di cui 70.768,16 per var esig.e € 350.600,55 rif. del A/S n. 13/2025 per richiamo Av. Vinc. sul cap.5525 | S24: da fare nulla per adesso. Bisogna aspettare il riaccertamento per l'imp. di € 70.768,16 e € 7.863,13.
A25: 80004010957202400038 | B25: ='Scheda D'!C37 -> F37H24002730002 | C25: ='Scheda D'!N37 -> ACCORDO QUADRO PER LA MANUTENZIONE STRAORDINARIA DELLE STRADE PROVINCIALI - lotto 1 e 2 -2024/2025 RAS | D25: ='Scheda D'!E37 -> Alessandro Serra | E25: 1224000 | F25: 5052514.8 | G25: ADN | H25: 1 | I25: si | J25: si | K25: 1 | O25: risultano già iscritti nel 2025 | S25: Ok risultano iscritti nel 2025
A26: 80004010957202200002 | B26: ='Scheda D'!C11 -> F99J20000240002 | C26: ='Scheda D'!N11 -> Completamento della strada di circonvallazione di Cuglieri in variante alla SS 292 | D26: Giuseppe Orrù | E26: ='Scheda D'!P11 -> 4400000 | F26: ='Scheda D'!T11 -> 13500000 | G26: ADN | H26: 2 | I26: si | J26: si | K26: 3 | O26: ok. risultano già iscritti 4.400.000,00 nel 2025 | S26: risultano iscritti nel 2025
A27: 80004010957202500034 | B27: ='Scheda D'!C32 -> F35F24000540001 | C27: ='Scheda D'!N32 -> Interventi di manutenzione straordinaria della rete stradale con particolare riferimento alla sicurezza per i motociclisti | D27: Alessandro Serra | E27: ='Scheda D'!P32 -> 159858 | F27: ='Scheda D'!T32 -> 840672 | G27: ADN | H27: 1 | I27: si | J27: si | K27: 1 | O27: n..decreto finanziamento per iscriverlo e verificare importo della 1^annualità. | S27: indicare n.decreto finanziamento per iscriverlo e verificare importo della 1^annualità.
A28: 80004010957202100042 | B28: F95F24000530003 | C28: Interventi di manutenzione straordinaria urgente SP 33 e 39 | D28: Michele Scanu | E28: 666072.42 | F28: 666072.42 | G28: ADN | H28: 1 | I28: si | J28: si | K28: 3
A29: 80004010957202100040 | B29: F35F24000620002 | C29: ='Scheda D'!N40 -> ACCORDO QUADRO PER LA MANUTENZIONE STRAORDINARIA DELLE STRADE PROVINCIALI - lotto 3 e 4 -2025/2026 RAS | D29: ='Scheda D'!E40 -> Alessandro Serra | E29: ='Scheda D'!P40 -> 1040000 | F29: ='Scheda D'!T40 -> 5040000 | G29: ADN | H29: 1 | I29: si | J29: si | K29: 1 | Y29: riguardava il 2024 | AA29: delibera 29
A30: 80004010957202100041 | B30: ='Scheda D'!C41 -> F51J25000010002 | C30: ='Scheda D'!N41 -> Lavori di manutenzione idraulica del Rio Perdosu | D30: ='Scheda D'!E41 -> Salvatore Deiana | E30: ='Scheda D'!P41 -> 240000 | F30: ='Scheda D'!T41 -> 240000 | G30: AMB | H30: 1 | I30: si | J30: si | K30: 3 | O30: delibera 29 2025 - da verificare con il RUP | S30: appl AV di 321.159,05. sul cap. 292893. Riguarda più lavori?. | W30: 5750 | X30: 292891 | Y30: 132027.45 | Z30: delibera 13 | AA30: 321159.05 | AB30: 2 rata fin
A31: 80004010957202100043 | B31: ='Scheda D'!C42 -> F51B23000500002 | C31: ='Scheda D'!N42 -> INTERSEZIONE TRA LA S.P. 69, LA S.P. 50 E LA S.P.8 IN COMUNE DI ARBOREA | D31: ='Scheda D'!E42 -> Alessandro Serra | E31: ='Scheda D'!P42 -> 430000 | F31: ='Scheda D'!T42 -> 430000 | G31: ADN | H31: 1 | I31: si | J31: si | K31: 3
A32: 80004010957202100044 | B32: ='Scheda D'!C43 -> F17H130000910002 | C32: ='Scheda D'!N43 -> MESSA IN SICUREZZA TRATTO BIVIO MOGORO SS131 – SP 44 | D32: ='Scheda D'!E43 -> Alessandro Serra | E32: ='Scheda D'!P43 -> 597287.02 | F32: ='Scheda D'!T43 -> 800000 | G32: ADN | H32: 1 | I32: si | J32: si | K32: 3
C33: Elenco lavori terza variazione al piano triennale
A34: 80004010957202100045 | B34: =+'Scheda D'!C45 -> F19I25000650007 | C34: =+'Scheda D'!N45 -> Interventi di riqualificazione e messa in sicurezza delle aree sportive esterne di pertinenza dell’istituto polivalente di Terralba | D34: =+'Scheda D'!E45 -> Graziano Plana | E34: 0 | F34: =+'Scheda D'!T45 -> 685000 | G34: ADN | H34: =+'Scheda D'!O45 -> 2 | I34: si | J34: si | K34: 2 | N34: =+'Scheda D'!Y45 -> 2
A35: 80004010957202100046 | B35: =+'Scheda D'!C46 -> F29I25000680007 | C35: =+'Scheda D'!N46 -> Interventi di adeguamento funzionale ed efficientamento energetico palestre del Liceo Scientifico di Ghilarza | D35: =+'Scheda D'!E46 -> Graziano Plana | E35: 0 | F35: =+'Scheda D'!Q46 -> 1049000 | G35: ADN | H35: =+'Scheda D'!O46 -> 2 | I35: si | J35: si | K35: 2 | N35: =+'Scheda D'!Y46 -> 2
A36: 80004010957202100047 | B36: =+'Scheda D'!C47 -> F63C24000500005 | C36: =+'Scheda D'!N47 -> Lavori di adeguamento funzionale ed efficientamento energetico nella palestra di competenza dell'istituto di istruzione superiore G.a. Pischedda di Bosa. | D36: =+'Scheda D'!E47 -> Graziano Plana | E36: 0 | F36: =+'Scheda D'!Q47 -> 440000 | G36: ADN | H36: =+'Scheda D'!O47 -> 2 | I36: si | J36: si | K36: 3 | N36: 2
A37: 80004010957202100048 | B37: =+'Scheda D'!C48 -> F13C25000760006 | C37: =+'Scheda D'!N48 -> Interventi di efficientamento energetico dell'edificio di proprietà della Provincia di Oristano, sito nella via Diaz in Oristano sede dell'istituto Polivalente | D37: =+'Scheda D'!E48 -> Graziano Plana | E37: 0 | F37: =+'Scheda D'!Q48 -> 2320000 | G37: ADN | H37: =+'Scheda D'!O48 -> 2 | I37: si | J37: si | K37: 3 | N37: 2
C38: Elenco lavori quarta variazione al piano triennale
A39: 80004010957202100049 | B39: ='Scheda D'!C50 -> F17H25001420003 | C39: ='Scheda D'!N50 -> Manutenzione straordinaria SP 70 | D39: ='Scheda D'!E50 -> Sergio Carrau | E39: ='Scheda D'!P50 -> 400000 | F39: ='Scheda D'!T50 -> 400000 | G39: ADN | H39: ='Scheda D'!O50 -> 1 | I39: si | J39: si | K39: 1 | N39: ='Scheda D'!Y50 -> 3
E40: =SUM(E11:E39) -> 21538905 | F40: =SUM(F11:F39) -> 45994209 | Y40: 1 rata | AA40: 292893
Y41: richiamati dall'AV.
A42: (*) Tale campo compare solo in caso di modifica del programma
A44: Tabella E.1
A45: ADN - Adeguamento normativo
...

Sheet Scheda D
A1: ALLEGATO I - SCHEDA D: PROGRAMMA TRIENNALE DELLE OPERE PUBBLICHE 2025/2027
A2: PROVINCIA DI ORISTANO
A4: ELENCO DEGLI INTERVENTI DEL PROGRAMMA
A7: Codice Unico Intervento CUI (1) | B7: Cod. Int. Amm.ne (2) | C7: Codice CUP (3) | D7: Annualità nella quale si prevede di dare avvio alla procedura di affidamento | E7: Responsabile Unico del Progetto (4) | F7: lotto funzionale (5) | G7: lavoro complesso (6) | H7: codice ISTAT | K7: localizzazione - codice NUTS | L7: Tipologia | M7: Settore e sottosettore intervento | N7: Descrizione dell'intervento | O7: Livello di priorità (7) | P7: STIMA DEI COSTI DELL'INTERVENTO (8) | Y7: Intervento aggiunto o variato a seguito di modifica programma (12)
H8: Reg | I8: Prov | J8: Com | P8: Primo anno | Q8: Secondo anno | R8: Terzo anno | S8: Costi su annualità successive | T8: Importo complessivo (9) | U8: Valore degli eventuali immobili di cui alla scheda C collegati all'intervento (10) | V8: Scadenza temporale ultima per l'utilizzo dell'eventuale finanziamento derivante da contrazione di mutuo | W8: Apporto di capitale privato (11)
W9: Importo | X9: Tipologia
A10: numero intervento CUI | B10: testo | C10: codice | D10: data (anno) | E10: testo | F10: si/no | G10: si/no | H10: cod | I10: cod | J10: cod | K10: codice | L10: Tabella D.1 | M10: Tabella D.2 | N10: testo | O10: Tabella D.3 | P10: valore | Q10: valore | R10: valore | S10: valore | T10: valore | U10: valore | V10: data | W10: valore | X10: Tabella D.4 | Y10: Tabella D.5
A11: 80004010957202200001 | B11: 12025 | C11: F99J20000240002 | D11: 2025 | E11: Giuseppe Orrù | F11: no | G11: no | H11: 20 | I11: 095 | J11: 95055 | K11: ITG2G | L11: 03 51 | M11: 01 01 012 | N11: Completamento della strada di circonvallazione di Cuglieri in variante alla SS 292 | O11: 2 | P11: 4400000 | Q11: 4600000 | R11: 4500000 | S11: 0 | T11: =SUM(P11:S11) -> 13500000
A12: 80004010957202200002 | B12: =B11+10000 -> 22025 | C12: F27H19000100002 /F31B21004750003 | D12: 2025 | E12: Fabrizio Pibi | F12: no | G12: no | H12: 20 | I12: 095 | J12: 095013-095027 | K12: ITG2G | L12: 03 04 | M12: 01 01 013 | N12: Lavori di Messa in sicurezza dei ponti sulla SP 9 sul Rio Mannu a Bauladu e sul Rio Cispiri a Milis | O12: 2 | P12: 1714707.2 | Q12: 0 | R12: 0 | S12: 0 | T12: 1909514.5
A13: 80004010957202200004 | B13: =B12+10000 -> 32025 | C13: F17H21007230001 | D13: 2025 | E13: Giuseppe Orrù | F13: no | G13: no | H13: 20 | I13: 95 | J13: 095038 | K13: ITG2G | L13: 03 04 | M13: 01 01 013 | N13: Lavori di Messa in sicurezza dei ponti lungo la S.P. 97 | O13: 1 | P13: 805070.53 | T13: =SUM(P13:S13) -> 805070.53
A14: 80004010957202200005 | B14: =B13+10000 -> 42025 | C14: F17H21007210001 | D14: 2025 | E14: Giuseppe Orrù | F14: no | G14: no | H14: 20 | I14: 95 | J14: 095064 | K14: ITG2G | L14: 03 04 | M14: 01 01 013 | N14: Lavori di demolizione e ricostruzione degli attraversamenti stradali lungo la SP 74 | O14: 1 | P14: 300000 | Q14: 0 | T14: 330000
A15: 80004010957202200006 | B15: =B14+10000 -> 52025 | C15: F17H21007220001 | D15: 2025 | E15: Giuseppe Orrù | F15: no | G15: no | H15: 20 | I15: 95 | J15: 095014 | K15: ITG2G | L15: 03 04 | M15: 01 01 013 | N15: Lavori di demolizione e ricostruzione degli attraversamenti stradali lungo la SP 84 | O15: 1 | Q15: 0 | T15: 547207.98
A16: 80004010957202300011 | B16: =B15+10000 -> 62025 | C16: F87H22004580001 | D16: 2025 | E16: Alessandro Serra | F16: no | G16: no | H16: 20 | I16: 095 | J16: 095045 | K16: ITG2G | L16: 03 07 | M16: 01 01 013 | N16: MESSA IN SICUREZZA A TRATTI SALTUARI DELLA S.P. N. 33 DA FINE ABITATO DI SAMUGHEO A LIMITE PROVINCIA NUORO | O16: 1 | P16: =807905.04+117538.74+133538.74 -> 1058982.5 | T16: =SUM(P16:S16) -> 1058982.5
A17: 80004010957202300011 | B17: =B16+10000 -> 72025 | C17: F67H22003160001 | D17: 2026 | E17: Giuseppe Pinna | F17: no | G17: no | H17: 20 | I17: 095 | J17: 095079 | K17: ITG2G | L17: 03 07 | M17: 01 01 013 | N17: MESSA IN SICUREZZA DELLA S.P. 49 NU (BOSA – ALGHERO) DAL KM 15+000 AL KM 19+800 – LIMITE PROVINCIA SASSARI | O17: 3 | Q17: 1317620 | T17: =SUM(P17:S17) -> 1317620
A18: 80004010957202300009 | B18: =B17+10000 -> 82025 | C18: F97H22003050001 | D18: 2026 | E18: Giuseppe Pinna | F18: no | G18: no | H18: 20 | I18: 095 | J18: 095031 | K18: ITG2G | L18: 03 07 | M18: 01 01 013 | N18: MESSA IN SICUREZZA DELLA S.P. N. 11 NEL TRATTO BV SS 292 A NARBOLIA – DAL KM 0+000 AL KM 5+600. | O18: 3 | Q18: 1317620 | T18: =SUM(P18:S18) -> 1317620
A19: 80004010957202300014 | B19: =B18+10000 -> 92025 | C19: F17H22003310001 | D19: 2027 | E19: Giuseppe Pinna | F19: no | G19: no | H19: 20 | I19: 095 | J19: 095065 | K19: ITG2G | L19: 03 07 | M19: 01 01 013 | N19: MESSA IN SICUREZZA DELLA S.P. N. 92 – CIRCONVALLAZIONE DI TERRALBA | O19: 3 | S19: 1317620 | T19: =SUM(P19:S19) -> 1317620
A20: 80004010957202300015 | B20: =B19+10000 -> 102025 | C20: F87H22004600001 | D20: 2028 | E20: Giuseppe Pinna | F20: no | G20: no | H20: 20 | I20: 095 | J20: 095029 | K20: ITG2G | L20: 03 07 | M20: 01 01 013 | N20: MESSA IN SICUREZZA DELLA S.P. N. 99 – CIRCONVALLAZIONE DI MOGORO -MASULLAS DAL KM 0+000 AL KM 4+540 | O20: 3 | S20: 1317620 | T20: =SUM(P20:S20) -> 1317620
A21: 80004010957202300017 | B21: =B20+10000 -> 112025 | C21: F27H22001580001 | D21: 2025 | E21: Fabrizio Pibi | F21: no | G21: no | H21: 20 | I21: 095 | J21: 095038 | K21: ITG2G | L21: 03 07 | M21: 01 01 013 | N21: ACCORDO QUADRO MANUTENZIONE STRAORDINARIA DELLE STRADE PROVINCIALI n.36 dal km. 0,000 al km.7+750 n.38 da l km.14+900 al km.22+600 e n. 48 DAL KM 3+850AL KM 9+300.PIANO COMPLEMENTARE PNRR. | O21: 1 | P21: 667700 | Q21: 333850 | T21: =P21+Q21+333850 -> 1335400
A22: 80004010957202300020 | B22: =B21+10000 -> 122025 | C22: F67H16001880002 | D22: 2025 | E22: Alessandro Serra | F22: no | G22: no | H22: 20 | I22: 95 | J22: 095052 | K22: ITG2G | L22: 03 04 | M22: 01 01 013 | N22: Intervento di risanamento strutturale del ponte ad arco sul fiume Tirso lungo la SP 24 km 17+200 nel comune di Sedilo | O22: 1 | P22: 291750 | T22: 300000
A23: 80004010957202400020 | B23: =B22+10000 -> 132025 | C23: F17H19000130002 | D23: 2025 | E23: Alessandro Serra | F23: no | G23: no | H23: 20 | I23: 95 | J23: 095047 | K23: ITG2G | L23: 03 04 | M23: 01 01 013 | N23: Cavalca ferrovia SP 53 Santa Giusta | O23: 1 | P23: 150000 | T23: 400000
A24: 80004010957202400021 | B24: =B23+10000 -> 142025 | C24: G17H03000130001 | D24: 2025 | E24: Giampaolo Enna | F24: no | G24: no | H24: 20 | I24: 095 | J24: 095038 | K24: ITG2G | L24: 03 51 | M24: 01 01 012 | N24: CIRCONVALLAZONE DI ORISTANO - completamento a seguito di risoluzione | O24: 2 | P24: 3060987.6 | T24: 3396000
A25: 80004010957202100022 | B25: =B24+10000 -> 152025 | C25: F17H21007180001 | D25: 2025 | E25: Giuseppe Orrù | F25: no | G25: no | H25: 20 | I25: 95 | J25: 095049 | K25: ITG2G | L25: 03 04 | M25: 01 01 013 | N25: PROGETTAZIONE DEI LAVORI DI DEMOLIZIONE E RICOSTRUZIONE ATTRAVERSAMENTI STRADALI LUNGO LA SP 15 | O25: 1 | P25: 552156.91 | T25: =SUM(P25:S25) -> 552156.91
A26: 80004010957202100023 | B26: =B25+10000 -> 162025 | C26: F17H21007190001 | D26: 2025 | E26: Giuseppe Orrù | F26: no | G26: no | H26: 20 | I26: 95 | J26: 095032 | K26: ITG2G | L26: 03 04 | M26: 01 01 013 | N26: PROGETTAZIONE DEI LAVORI DI DEMOLIZIONE E RICOSTRUZIONE ATTRAVERSAMENTI STRADALI LUNGO LA SP 31 AL KM 0+900. | O26: 1 | P26: 281030.22 | T26: =SUM(P26:S26) -> 281030.22
A27: 80004010957202100025 | B27: =B26+10000 -> 172025 | C27: F17H19002360002 | D27: 2026 | E27: Giuseppe Orrù | F27: no | G27: no | H27: 20 | I27: 95 | J27: 095049 | K27: ITG2G | L27: 03 04 | M27: 01 01 013 | N27: MESSA IN SICUREZZA DEI PONTI AD ARCO LUNGO LE SS.PP. 44 e 15 | O27: 2 | Q27: 430000 | T27: =SUM(P27:S27) -> 430000
A28: 80004010957202200028 | B28: =B27+10000 -> 182025 | C28: F47H19000100002 | D28: 2024 | E28: Alessandro Serra | F28: no | G28: no | H28: 20 | I28: 095 | J28: 095038 | K28: ITG2G | L28: 03 01 | M28: 01 01 013 | N28: MESSA IN SICUREZZA DELLE INTERSEZIONI TRA LE SS.PP. 10 E 11 (NARBOLIA-RIOLA), SS.PP. 1 E 60 (NURAXINIEDDU - BARATILI S. PIETRO), SS.PP. 69-50 (ARBOREA LURI) – COMPLETAMENTO CIRCONVALLAZIONE DI SAN VERO MILIS | O28: 1 | P28: 623072.26 | T28: =SUM(P28:S28) -> 623072.26
A29: 80004010957202400031 | B29: =B28+10000 -> 192025 | C29: F97H24001610002 | D29: 2025 | E29: Giuseppe Orrù | F29: no | G29: no | H29: 20 | I29: 095 | J29: 95044 | K29: ITG2G | L29: 03 07 | M29: 01 01 013 | N29: INTERVENTI URGENTI MANUTENZIONE STRADALE SU SS.PP. 36, 39 E 67 | O29: 1 | P29: 1935000 | Q29: 65000 | T29: 2000000
A30: 80004010957202300032 | B30: =B29+10000 -> 202025 | C30: F87H12001860002 | D30: 2026 | E30: Alessandro Serra | F30: no | G30: no | H30: 20 | I30: 095 | J30: 095038 | K30: ITG2G | L30: 03 01 | M30: 01 01 013 | N30: Messa in sicurezza versanti instabili | O30: 1 | R30: 1400000 | S30: 800000 | T30: =SUM(P30:S30) -> 2200000
A31: 80004010957202400033 | B31: =B30+10000 -> 212025 | C31: F17H24001660001 | D31: 2025 | E31: Fabrizio Pibi | F31: no | G31: no | H31: 20 | I31: 095 | J31: 095038 | K31: ITG2G | L31: 03 07 | M31: 01 01 013 | N31: ACCORDO QUADRO PER LA MANUTENZIONE STRAORDINARIA DELLE STRADE PROVINCIALI | O31: 1 | Q31: 1329573.7 | R31: =4262887.95/3 -> 1420962.6 | S31: =1420962.65*2 -> 2841925.3 | T31: =SUM(P31:S31) -> 5592461.6
A32: 80004010957202500034 | B32: =B31+10000 -> 222025 | C32: F35F24000540001 | D32: 2025 | E32: Alessandro Serra | F32: no | G32: no | H32: 20 | I32: 095 | J32: 095038 | K32: ITG2G | L32: 03 07 | M32: 01 01 013 | N32: Interventi di manutenzione straordinaria della rete stradale con particolare riferimento alla sicurezza per i motociclisti | O32: 1 | P32: 159858 | Q32: 153629 | R32: 167332 | S32: =171622+188231 -> 359853 | T32: =SUM(P32:S32) -> 840672
A33: 80004010957202300034 | B33: =B32+10000 -> 232025 | C33: F15F23000190001 | D33: 2024 | E33: Giuseppe Orrù | F33: no | G33: no | H33: 20 | I33: 95 | J33: 095038 | K33: ITG2G | L33: 01 01 | M33: 01 01 013 | N33: MESSA IN SICUREZZA DELL'INFRASTRUTTURA COSTITUITA DAL PONTE SUL FIUME TIRSO (USCITA ORISTANO) E DEI VIADOTTI IN LOCALITÀ RIMEDIO (S.P. N. 54) | O33: 1 | P33: 519861.29 | T33: 1039722.6
A34: 80004010957202500036 | B34: =B33+10000 -> 242025 | C34: F15F23000200001 | D34: 2025 | E34: Giuseppe Orrù | F34: no | G34: no | H34: 20 | I34: 95 | J34: 095038 | K34: ITG2G | L34: 03 04 | M34: 01 01 013 | N34: ADEGUAMENTO DELLA CAPACITÀ PORTANTE DEL VECCHIO PONTE SULLA SP N. 54 BIS | O34: 2 | Q34: 1559583.9 | R34: =Q34 -> 1559583.9 | S34: =Q34*2 -> 3119167.8 | T34: =SUM(Q34:S34) -> 6238335.5
A35: 80004010957202400035 | B35: =B34+10000 -> 252025 | C35: F11B24000230002 | D35: 2026 | E35: Giuseppe Pinna | F35: no | G35: no | H35: 20 | I35: 95 | J35: 095038 | K35: ITG2G | L35: 03 01 | M35: 01 01 014 | N35: Messa in sicurezza pista ciclabile Oristano - Torregrande lungo SP 1 e SP 81 | O35: 3 | R35: 2000000 | T35: =SUM(P35:S35) -> 2000000
A36: 80004010957202400037 | B36: =B35+10000 -> 262025 | C36: F77H24000770001 | D36: 2025 | E36: Michele Scanu | F36: no | G36: no | H36: 20 | I36: 095 | J36: 095045 | K36: ITG2G | L36: 03 04 | M36: 01 01 013 | N36: Lavori di ricostruzione dell'attraversamento stradale al km 6+750 della SP 71 (Busachi - Samugheo) | O36: 1 | P36: 421368.71 | T36: 500000
A37: 80004010957202400038 | B37: =B36+10000 -> 272025 | C37: F37H24002730002 | D37: 2025 | E37: Alessandro Serra | F37: no | G37: no | H37: 20 | I37: 095 | J37: 095038 | K37: ITG2G | L37: 03 07 | M37: 01 01 013 | N37: ACCORDO QUADRO PER LA MANUTENZIONE STRAORDINARIA DELLE STRADE PROVINCIALI - lotto 1 e 2 -2024/2025 RAS | O37: 1 | P37: 1224000 | Q37: 2328514.8 | R37: 1500000 | T37: 5052514.8
A38: 80004010957202100039 | B38: =B37+10000 -> 282025 | C38: F47H19000100002 | D38: 2026 | E38: Giampaolo Enna | F38: no | G38: no | H38: 20 | I38: 95 | J38: 095049 | K38: ITG2G | L38: 03 04 | M38: 01 01 013 | N38: Messa in sicurezza del ponte in ferro sulla SP 15 – Simaxis – Solarussa | O38: 2 | Q38: 2000000 | T38: =SUM(P38:S38) -> 2000000
A39: 80004010957202100042 | B39: 312025 | C39: F95F24000530003 | D39: 2025 | E39: Michele Scanu | F39: no | G39: no | H39: 20 | I39: 95 | J39: 095045 | K39: ITG2G | L39: 03 07 | M39: 01 01 013 | N39: Interventi di manutenzione straordinaria urgente SP 33 e 39 | O39: 1 | P39: 666072.42 | T39: 666072.42
A40: 80004010957202100040 | B40: =B38+10000 -> 292025 | C40: F35F24000620002 | D40: 2025 | E40: Alessandro Serra | F40: no | G40: no | H40: 20 | I40: 095 | J40: 095038 | K40: ITG2G | L40: 03 07 | M40: 01 01 013 | N40: ACCORDO QUADRO PER LA MANUTENZIONE STRAORDINARIA DELLE STRADE PROVINCIALI - lotto 3 e 4 -2025/2026 RAS | O40: 1 | P40: 1040000 | Q40: 2000000 | R40: 2000000 | T40: =SUM(P40:S40) -> 5040000 | Y40: 1
A41: 80004010957202100041 | B41: =B40+10000 -> 302025 | C41: F51J25000010002 | D41: 2025 | E41: Salvatore Deiana | F41: no | G41: no | H41: 20 | I41: 095 | J41: 095069 | K41: ITG2G | L41: 06 | M41: 02 05 051 | N41: Lavori di manutenzione idraulica del Rio Perdosu | O41: 1 | P41: 240000 | Q41: 0 | R41: 0 | S41: 0 | T41: 240000 | Y41: 1
A42: 80004010957202100043 | B42: 322025 | C42: F51B23000500002 | D42: 2025 | E42: Alessandro Serra | F42: no | G42: no | H42: 20 | I42: 095 | J42: 095006 | K42: ITG2G | L42: 03 01 | M42: 01 01 013 | N42: INTERSEZIONE TRA LA S.P. 69, LA S.P. 50 E LA S.P.8 IN COMUNE DI ARBOREA | O42: 1 | P42: 430000 | Q42: 0 | R42: 0 | S42: 0 | T42: 430000 | Y42: 1
A43: 80004010957202100044 | B43: 332025 | C43: F17H130000910002 | D43: 2025 | E43: Alessandro Serra | F43: no | G43: no | H43: 20 | I43: 095 | J43: 095029 | K43: ITG2G | L43: 03 01 | M43: 01 01 013 | N43: MESSA IN SICUREZZA TRATTO BIVIO MOGORO SS131 – SP 44 | O43: 1 | P43: 597287.02 | T43: 800000 | Y43: 1
...

Sheet Scheda F
A1: ALLEGATO I - SCHEDA F: PROGRAMMA TRIENNALE DELLE OPERE PUBBLICHE 2025/2027
A2: PROVINCIA DI ORISTANO
A4: ELENCO DEGLI INTERVENTI PRESENTI NELL'ELENCO ANNUALE DEL PRECEDENTE PROGRAMMA TRIENNALE
A5: E NON RIPROPOSTI E NON AVVIATI
A7: CODICE UNICO INTERVENTO - CUI | B7: CUP | C7: DESCRIZIONE INTERVENTO | D7: IMPORTO INTERVENTO | E7: Livello di priorità | F7: motivo per il quale l'intervento non è riproposto (1)
A11: Codice | B11: Ereditato da precedente programma | C11: Ereditato da precedente programma | D11: Ereditato da precedente programma | E11: Ereditato da scheda D | F11: testo
C15: Il referente del programma
C17: Ing. Graziano Plana
A20: (1) breve descrizione dei motivi
