Workbook

Sheet Scheda A
A1: ALLEGATO I - SCHEDA A : PROGRAMMA TRIENNALE DELLE OPERE PUBBLICHE 2023/2025
A2: PROVINCIA DI ORISTANO
A4: QUADRO DELLE RISORSE NECESSARIE ALLA REALIZZAZIONE DEL PROGRAMMA (1)
A6: TIPOLOGIA RISORSE | B6: Arco temporale di validità del programma
B7: Disponibilità finanziaria | E7: Importo Totale
B8: Primo anno | C8: Secondo anno | D8: Terzo anno
A9: risorse derivanti da entrate aventi destinazione vincolata per legge | B9: 11320502 | C9: =+'Scheda D'!Q28+'Scheda D'!Q29 -> 1240000 | D9: =+'Scheda D'!R28+'Scheda D'!R29 -> 155000 | E9: =(B9+C9+D9) -> 12715502
A10: risorse derivanti da entrate acquisite mediante contrazione di mutuo | B10: 0 | C10: 0 | D10: 0 | E10: =B10+C10+D10 -> 0
A11: risorse acquisite mediante apporti di capitali privati | B11: 0 | C11: 0 | D11: 0 | E11: =B11+C11+D11 -> 0
A12: stanziamenti di bilancio | B12: 1301178.8 | C12: 0 | D12: 0 | E12: =+B12+C12+D12 -> 1301178.8
A13: finanziamenti acquisibili ai sensi dell'articolo 3 del decreto-legge 31 ottobre 1990, n. 310, convertito con modificazioni dalla legge 22 dicembre 1990, n. 403 | B13: 0 | C13: 0 | D13: 0 | E13: =B13+C13+D13 -> 0
A14: risorse derivanti da trasferimento di immobili ex art.191 D.Lgs. 50/2016 (SCHEDA C) | B14: 0 | C14: 0 | D14: 0 | E14: =B14+C14+D14 -> 0
A15: Altra tipologia | B15: 0 | C15: 0 | D15: 0 | E15: =B15+C15+D15 -> 0
A16: Totali | B16: =SUM(B9:B15) -> 12621681 | C16: =SUM(C9:C15) -> 1240000 | D16: =SUM(D9:D15) -> 155000 | E16: =SUM(E9:E15) -> 14016681
D21: Il Referente del Programma
D22: Ing. Marco Manai
A23: Annotazioni
A24: (1) I dati del quadro delle risorse sono calcolati come somma delle informazioni elementari relative a ciascun intervento di cui alla scheda E e alla scheda C. Dette informazioni sono acquisite dal sistema (software) e rese disponibili in banca dati ma non visualizzate nel programma.

Sheet Scheda B
A1: ALLEGATO I - SCHEDA B: PROGRAMMA TRIENNALE DELLE OPERE PUBBLICHE 2023/2025
A2: PROVINCIA DI ORISTANO
A4: ELENCO DELLE OPERE INCOMPIUTE
A8: Elenco delle Opere Incompiute
A9: CUP (1) | B9: CUP Master (2) | C9: Descrizione Opera | D9: Determinazioni dell'amministrazione | E9: ambito di interesse dell'opera | F9: anno ultimo quadro economico approvato | G9: Importo complessivo dell'intervento (3) | H9: Importo complessivo lavori (4) | I9: Oneri necessari per l'ultimazione dei lavori | J9: Importo ultimo SAL | K9: Percentuale avanzamento lavori (4) | L9: Causa per la quale l'opera è incompiuta | M9: L'opera è attualmente fruibile, anche parzialmente, dalla collettività? | N9: Stato di realizzazione ex comma 2 art.1 DM 42/2013 | O9: Possibile utilizzo ridimensionato dell'Opera | P9: Destinazione d'uso | Q9: Cessione a titolo di corrispettivo per la realizzazione di altra opera pubblica ai sensi dell’articolo 191 del Codice | R9: Vendita ovvero demolizione (5) | S9: Parte di infrastruttura di rete
A11: codice | B11: codice | C11: testo | D11: Tabella B.1 | E11: Tabella B.2 | F11: aaaa | G11: valore | H11: valore | I11: valore | J11: valore | K11: percentuale | L11: Tabella B.3 | M11: si/no | N11: Tabella B.4 | O11: si/no | P11: Tabella B.5 | Q11: si/no | R11: si/no | S11: si/no
A12: F18G06000070003 | C12: Lavori di completamento ex università di Oristano | D12: Si intende riprendere l'esecuzione dell'opera una volta reperiti i necessari finanziamenti aggiuntivi | E12: Regionale | F12: 2009 | G12: 2680000 | H12: 0 | I12: 3000000 | J12: 0 | K12: 0 | L12: Fallimento della ditta | M12: no | N12: Lettera B | O12: no | P12: lettera B | Q12: no | R12: no | S12: no
A13: Precedente al 01/01/2003 | C13: Circonvallazione dell'abitato di Bonarcado | D13: Si intende riprendere l'esecuzione dell'opera una volta reperiti i necessari finanziamenti aggiuntivi | E13: Nazionale | F13: Precedente al 01/01/2003 | G13: Precedente al 01/01/2003 | H13: 100% 1° lotto | I13: 10000000 | K13: 100% 1° lotto | L13: mancanza di fondi | M13: sì | N13: 1° lotto ultimato | O13: no | P13: prevista in progetto | Q13: no | R13: no | S13: sì
G16: =+G12 -> 2680000 | H16: 0 | I16: =+I12+I13 -> 13000000 | J16: 0
A17: Note
A18: (1) Indica il CUP del progetto di investimento nel quale l'opera incompiuta rientra: è obbligatorio per tutti i progetti avviati dal 1 gennaio 2003
A19: (2) Indica l'eventuale Cup master dell'ogetto progettuale al quale l'opera è eventualmente associata
A20: (3) Importo riferito all'ultimo quadro economico approvato | O20: Il Referente del Programma
A21: (4) Percentuale di avanzamento dei lavori rispetto all'ultimo progetto approvato | O21: Ing. Marco Manai
A22: (5) In caso di vendita l'immobile deve essere riportato nell'elenco di cui alla scheda C ; in caso di demolizione l'intervento deve essere riportato fra gli interventi del programma di cui alla scheda D
A24: Tabella B.1
A25: a) è stata dichiarata l'insussistenza dell'interesse pubblico al completamento ed alla fruibilità dell'opera
A26: b) si intende riprendere l'esecuzione dell'opera senza necessari finanziamenti aggiuntivi
A27: c) si intende riprendere l'esecuzione dell'opera avendo già reperito i necessari finanziamenti aggiuntivi
A28: d) si intende riprendere l'esecuzione dell'opera una volta reperiti i necessari finanziamenti aggiuntivi
A30: Tabella B.2
A31: a) nazionale
A32: b) regionale
A34: Tabella B.3
A35: a) mancanza di fondi
A36: b1) cause tecniche: protrarsi di circostanze speciali che hanno determinato la sospensione dei lavori e/o l'esigenza di una variante progettuale
... A52: Descrizione dell'opera
A53: Dimensionamento dell'intervento (unità di misura) | D53: unità di misura
A54: Dimensionamento dell'intervento (valore) | D54: valore (mq, mc …)
A55: L'opera risulta rispondente a tutti i requisiti del capitolato | D55: si/no
A56: L'opera risulta rispondente a tutti i requisiti dell'ultimo progetto approvato | D56: si/no
A57: Fonti di finanziamento (se intervento lavoro di completamento non incluso in scheda D)
A58: Sponsorizzazione | D58: si/no
A59: Finanza di progetto | D59: si/no
A60: Costo progetto | D60: importo
A61: Finanziamento assegnato | D61: importo
A62: Tipologia copertura finanziaria
A63: Comunitaria | D63: si/no
A64: Statale | D64: si/no
A65: Regionale | D65: si/no
...

Sheet Scheda C
A1: ALLEGATO I - SCHEDA C : PROGRAMMA TRIENNALE DELLE OPERE PUBBLICHE 2023/2025
A2: PROVINCIA DI ORISTANO
A4: ELENCO DEGLI IMMOBILI DISPONIBILI
A8: Elenco degli immobili disponibili art. 21, comma 5, e art. 191 del D.Lgs. 50/2016
A9: Codice univoco immobile (1) | B9: Riferimento CUI intervento (2) | C9: Riferimento CUP Opera Incompiuta (3) | D9: Descrizione immobile | E9: Codice Istat | H9: localizzazione - CODICE NUTS | I9: Cessione o trasferimento immobile a titolo corrispettivo ex art.21 comma 5 e art.191 comma 1 (Tabella C.1) | J9: Concessi in diritto di godimento, a titolo di contributo ex articolo 21 comma 5 (Tabella C.2) | K9: Già incluso in programma di dismissione di cui art.27 DL 201/2011, convertito dalla L. 214/2011 (Tabella C.3) | L9: Tipo disponibilità se immobile derivante da Opera Incompiuta di cui si è dichiarata l'insussistenza dell'interesse | M9: Valore Stimato
E10: Reg | F10: Prov | G10: Com | M10: Primo anno | N10: Secondo anno | O10: Terzo anno | P10: Totale
A11: codice | B11: codice | C11: codice | D11: testo | E11: cod | F11: cod | G11: cod | H11: codice | I11: Tabella C.1 | J11: Tabella C.2 | K11: Tabella C.3 | L11: Tabella C.4 | M11: valore | N11: valore | O11: valore | P11: somma
M12: 0 | N12: 0 | O12: 0 | P12: 0
K16: Il Referente del Programma
A17: Note: | K17: Ing. Marco Manai
A18: (1) Codice obbligatorio: numero immobile = cf amministrazione + prima annualità del primo programma nel quale l'immobile è stato inserito + lettera "i" ad identificare l'oggetto immobile e distinguerlo dall'intervento di cui al codice CUI + progressivo di 5 cifre
A19: (2) Riportare il codice CUI dell'intervento (nel caso in cui il CUP non sia previsto obbligatoriamente) al quale la cessione dell'immobile è associata; non indicare alcun codice nel caso in cui si proponga la semplice alienazione
A20: (3) Se derivante da opera incompiuta riportare il relativo codice CUP
A23: Tabella C.1
A24: 1. no
A25: 2. parziale
A26: 3. totale
A28: Tabella C.2
A29: 1. no
A30: 2. si, cessione
A31: 3. si, in diritto di godimento, a titolo di contributo, la cui utilizzazione sia strumentale e tecnicamente connessa all'opera da affidare in concessione
A33: Tabella C.3
... A41: 3. vendita al mercato privato

Sheet Scheda D
A1: ALLEGATO I - SCHEDA D: PROGRAMMA TRIENNALE DELLE OPERE PUBBLICHE 2023/2025
A2: PROVINCIA DI ORISTANO
A4: ELENCO DEGLI INTERVENTI DEL PROGRAMMA
A7: Codice Unico intervento CUI (1) | B7: Cod. Int. Amm.ne (2) | C7: Codice CUP (3) | D7: Annualità nella quale si prevede di dare avvio alla procedura di affidamento | E7: ResponsabileUnico del progetto (4) | F7: lotto funzionale (5) | G7: lavoro complesso (6) | H7: codice ISTAT | K7: localizzazione - codice NUTS | L7: Tipologia | M7: Settore e sottosettore intervento | N7: Descrizione dell'intervento | O7: Livello di priorità (7) | P7: STIMA DEI COSTI DELL'INTERVENTO (8) | Y7: Intervento aggiunto o variato a seguito di modifica programma (12)
H8: Reg | I8: Prov | J8: Com | P8: Primo anno | Q8: Secondo anno | R8: Terzo anno | S8: Costi su annualità successive | T8: Importo complessivo (9) | U8: Valore degli eventuali immobili di cui alla scheda C collegati all'intervento (10) | V8: Scadenza temporale ultima per l'utilizzo dell'eventuale finanziamento derivante da contrazione di mutuo | W8: Apporto di capitale privato (11)
W9: Importo | X9: Tipologia
A10: numero intervento CUI | B10: testo | C10: codice | D10: data (anno) | E10: testo | F10: si/no | G10: si/no | H10: cod | I10: cod | J10: cod | K10: codice | L10: Tabella D.1 | M10: Tabella D.2 | N10: testo | O10: Tabella D.3 | P10: valore | Q10: valore | R10: valore | S10: valore | T10: valore | U10: valore | V10: data | W10: valore | X10: Tabella D.4 | Y10: Tabella D.5
A11: 80004010957202200001 | B11: 1 2023 | C11: F99J20000240002 | D11: 2023 | E11: Marco Manai | F11: no | G11: no | H11: 20 | I11: 095 | J11: 019- 055 | K11: ITG2G | L11: 03 01 | M11: 01 01 012 | N11: Completamento della strada di circonvallazione di Cuglieri in variante alla SS 292 | O11: 1 | P11: 4000000 | Q11: 0 | R11: 0 | S11: 0 | T11: =SUM(P11:S11) -> 4000000
A12: 80004010957202200002 | B12: 2 2023 | C12: F27H19000100002 /F31B21004750003 | D12: 2023 | E12: Fabrizio Pibi | F12: no | G12: no | H12: 20 | I12: 095 | J12: 095013-095027 | K12: ITG2G | L12: 03 01 | M12: 01 01 013 | N12: Lavori di Messa in sicurezza dei ponti sulla SP 9 sul Rio Mannu a Bauladu e sul Rio Cispiri a Milis | O12: 2 | P12: 1819514.5 | Q12: 0 | R12: 0 | S12: 0 | T12: =SUM(P12:S12) -> 1819514.5
A13: 80004010957202200003 | B13: 3 2023 | C13: F38H22000520002 | D13: 2023 | E13: Salvatore Deiana | F13: no | G13: no | H13: 20 | I13: 095 | J13: 095038 | K13: ITG2G | L13: 06 | M13: 02 05 051 | N13: Interventi di manutenzione del reticolo idrografico della provincia di Oristano | O13: 1 | P13: 248121.66 | Q13: 0 | R13: 0 | S13: 0 | T13: =SUM(P13:S13) -> 248121.66
P14: =SUM(P11:P13) -> 6067636.2 | Q14: =SUM(Q11:Q12) -> 0 | R14: =SUM(R11:R12) -> 0 | S14: =SUM(S11:S12) -> 0 | T14: =SUM(T11:T13) -> 6067636.2
A16: 80004010957202200020 | B16: 20 2022 | C16: F67H18001760001 | D16: 2022 | E16: Giuseppe Orrù | F16: no | G16: no | H16: 20 | I16: 95 | J16: 095079 | K16: ITG2G | L16: 01 01 | M16: 1013 | N16: Lavori di Messa in sicurezza S.P. 19 NU Bosa Montresta dal Km1 al Km 4 | O16: 1 | U16: potrebbero essere aggiudicati entro l’anno | W16: NON RIPROPORRE? Già avviata det a contrarre | X16: approvato anche prog es con det e det a contrarre lavori 974 del 21 11 2022
A17: 80004010957202200021 | B17: 21 2022 | C17: F17H21007230001 | D17: 2022 | E17: Marco Manai | F17: no | G17: no | H17: 20 | I17: 95 | J17: 095038 | K17: ITG2G | L17: 01 01 | M17: 1013 | N17: Lavori di Messa in sicurezza dei ponti lungo la S.P. 97 | O17: 1 | P17: 953580.4 | T17: =+P17+Q17+R17+S17 -> 953580.4 | U17: non possono essere agg entro l’anno | W17: ?
A18: 80004010957202200022 | B18: 22 2022 | C18: F17H21007210001 | D18: 2022 | E18: Marco Manai | F18: no | G18: no | H18: 20 | I18: 95 | J18: 095064 | K18: ITG2G | L18: 01 01 | M18: 1013 | N18: Lavori di demolizione e ricostruzione degli attraversamenti stradali lungo la SP 74 | O18: 1 | P18: 330000 | Q18: 520000 | T18: =+P18+Q18+R18+S18 -> 850000 | U18: non possono essere agg entro l’anno | W18: ?
A19: 80004010957202200023 | B19: 23 2022 | C19: F17H21007220001 | D19: 2022 | E19: Marco Manai | F19: no | G19: no | H19: 20 | I19: 95 | J19: 095014 | K19: ITG2G | L19: 01 01 | M19: 1013 | N19: Lavori di demolizione e ricostruzione degli attraversamenti stradali lungo la SP 84 | O19: 1 | P19: 547207.98 | T19: =+P19+Q19+R19+S19 -> 547207.98 | U19: non possono essere agg entro l’anno | W19: ?
A20: 80004010957202300004 | B20: 4 2023 | C20: F47H18000840001 | D20: 2023 | E20: Piergiorgio Careddu | F20: no | G20: no | H20: 20 | I20: 095 | J20: 095021 | K20: ITG2G | L20: 03 01 | M20: 01 01 013 | N20: Lavori di messa in sicurezza della S.P. N.15nel tratto fine abitato Ghilarza – Bivio S.S. 388 dal KM. 49+500 al KM 73+200. | O20: 1 | P20: 1512351.3 | Q20: 0 | R20: 0 | S20: 0 | T20: =SUM(P20:S20) -> 1512351.3 | Y20: Intervento aggiunto
A21: 80004010957202300005 | B21: 5 2023 | C21: F77H20004230001 | D21: 2023 | E21: Piergiorgio Careddu | F21: no | G21: no | H21: 20 | I21: 095 | J21: 095032-095063 | K21: ITG2G | L21: 03 01 | M21: 01 01 013 | N21: Manutenzione straordinaria della S.P. N.31 dal KM. 0+000 al KM. 8+200 e S.P. 84 dal KM. 8+900 al KM. 15+300. | O21: 1 | P21: 1420962.6 | Q21: 0 | R21: 0 | S21: 0 | T21: =SUM(P21:S21) -> 1420962.6 | Y21: Intervento aggiunto
M22: IMPORTI PRIMA VARIAZIONE PIANO TRIENNALE | N22: IMPORTI PRIMA VARIAZIONE PIANO TRIENNALE | P22: =SUM(P14+P20+P21) -> 9000950.1 | Q22: =(Q14+Q20+Q21) -> 0 | R22: =(R14+R20+R21) -> 0 | S22: =(S14+S20+S21) -> 0 | T22: =SUM(T14+T20+T21) -> 9000950.1
A23: 80004010957202300006 | B23: 6 2023 | C23: F37H22001330001 | D23: 2023 | E23: Alessandro Serra | F23: no | G23: no | H23: 20 | I23: 095 | J23: 095058-095022-095028 | K23: ITG2G | L23: 03 01 | M23: 01 01 013 | N23: MANUTENZIONE STRAORDINARIA DELLE STRADE PROVINCIALI N. 46 – TRATTO SIMALA – GONNOSCODINA, N. 37 – TRATTO BV S.P. 36 – VILLA SANT’ANTONIO E N. 35 – TRATTO AL KM 29+000. | O23: 1 | P23: 667700 | R23: 0 | S23: 0 | T23: =SUM(P23:S23) -> 667700 | Y23: Intervento aggiunto
M24: IMPORTI SECONDA VARIAZIONE PIANO TRIENNALE | P24: =(P22+P23) -> 9668650.1 | Q24: =(Q22+Q23) -> 0 | R24: =(R22+R23) -> 0 | S24: =(S22+S23) -> 0 | T24: =(T22+T23) -> 9668650.1
A25: 80004010957202300007 | B25: 7 2023 | C25: F16G23000080003 | D25: 2023 | E25: Alessandro Serra | F25: no | G25: no | H25: 20 | I25: 095 | J25: 095038 | K25: ITG2G | L25: 03 01 | M25: 01 01 013 | N25: Messa in Sicurezza e Manutenzione delle Strade Provinciali dei Circoli 1 e 4 – Annualità 2023. | P25: 650589.41 | Q25: 0 | R25: 0 | S25: 0 | T25: =SUM(P25:S25) -> 650589.41 | Y25: Intervento aggiunto
A26: 80004010957202300008 | B26: 8 2023 | C26: F16G23000090003 | D26: 2023 | E26: Alessandro Serra | F26: no | G26: no | H26: 20 | I26: 095 | J26: 095038 | K26: ITG2G | L26: 03 01 | M26: 01 01 013 | N26: Messa in Sicurezza e Manutenzione delle Strade Provinciali dei Circoli 2 e 3 – Annualità 2023. | P26: 650589.41 | Q26: 0 | R26: 0 | S26: 0 | T26: =SUM(P26:S26) -> 650589.41 | Y26: Intervento aggiunto
M27: IMPORTI TERZA VARIAZIONE PIANO TRIENNALE | P27: =SUM(P24:P26) -> 10969829 | Q27: =SUM(Q24:Q26) -> 0 | R27: =SUM(R24:R26) -> 0 | S27: =SUM(S24:S26) -> 0 | T27: =SUM(T24:T26) -> 10969829
A28: 80004010957202300009 | B28: 9 2023 | C28: F15F21002510006 | D28: 2023 | E28: Graziano Plana | F28: si | G28: no | H28: 20 | I28: 095 | J28: 095038 | K28: ITG2G | L28: 03 07 | M28: 05 08 086 | N28: CUP F15F21002510006. PNRR - MISSIONE 4 - COMPONENTE 1 – INVESTIMENTO 1.3. ("FINANZIATO DALL'UNIONE EUROPEA - NEXT GENERATION EU"). INTERVENTI DI RIQUALIFICAZIONE ARCHITETTONICA E FUNZIONALE DELLE PALESTRE DI PERTINENZA DELL'ISTITUTO POLIVALENTE SITO IN ORISTANO NELLA VIA A. DIAZ. | O28: 2 | P28: 79500 | Q28: 700000 | R28: =874500-Q28-P28 -> 95000 | S28: =SUM(S25:S27) -> 0 | T28: =+P28+Q28+R28 -> 874500 | Y28: Intervento aggiunto
A29: 80004010957202300010 | B29: 10 2023 | C29: F15F22000660006 | D29: 2023 | E29: Graziano Plana | F29: si | G29: no | H29: 20 | I29: 095 | J29: 095038 | K29: ITG2G | L29: 03 07 | M29: 05 08 086 | N29: CUP F15F22000660006. PNRR - MISSIONE 4 - COMPONENTE 1 – INVESTIMENTO 1.3. ("FINANZIATO DALL'UNIONE EUROPEA - NEXT GENERATION EU"). INTERVENTI DI RIQUALIFICAZIONE ARCHITETTONICA E FUNZIONALE DELLE PALESTRE DI PERTINENZA DELL'ISTITUTO LICEO SCIENTIFICO MARIANO IV SITO IN ORISTANO NELLA VIA MESSINA. | O29: 2 | P29: 60000 | Q29: 540000 | R29: =660000-Q29-P29 -> 60000 | S29: 0 | T29: =+P29+Q29+R29 -> 660000 | Y29: Intervento aggiunto
M30: IMPORTI QUARTA VARIAZIONE PIANO TRIENNALE | P30: =+P27+P28+P29 -> 11109329 | Q30: =+Q27+Q28+Q29 -> 1240000 | R30: =+R27+R28+R29 -> 155000 | S30: =+S27+S28+S29 -> 0 | T30: =+T27+T28+T29 -> 12504329
A31: 80004010957202300011 | B31: 11 2023 | C31: F97H18002350001 | D31: 2023 | E31: Alessandro Serra | F31: no | G31: no | H31: 20 | I31: 095 | J31: 095079-095085 | K31: ITG2G | N31: LAVORI DI MANUTENZIONE STRAORDINARIA DELLA S.P. N. 19NU BOSA - MONTRESTA - DAL KM 4+000 E KM 14+000 | O31: 1 | P31: 1512351.6 | Q31: 0 | R31: 0 | S31: 0 | T31: 1512351.6 | Y31: Intervento aggiunto
M32: IMPORTI QUINTA VARIAZIONE PIANO TRIENNALE | P32: =SUM(P30+P31) -> 12621681 | Q32: =SUM(Q30+Q31) -> 1240000 | R32: =SUM(R30+R31) -> 155000 | S32: =SUM(S30+S31) -> 0 | T32: =SUM(T30+T31) -> 14016681
A33: Note
A34: (1) Numero intervento = cf amministrazione + prima annualità del primo programma nel quale l'intervento è stato inserito + progressivo di 5 cifre
A35: (2) Numero interno liberamente indicato dall'amministrazione in base a proprio sistema di codifica | P35: Il Referente del Programma
A36: (3) Indica il CUP (cfr. articolo 3 comma 5) | P36: Ing. Marco Manai
A37: (4) Riportare nome e cognome del responsabile del procedimento
A38: (5) Indica se lotto funzionale secondo la definizione di cui all'art.3 comma 1 lettera s) dell'allegato I.1 al codice
A40: (7) Indica il livello di priorità di cui all'articolo 3 comma 11 e 12
A41: (8) Ai sensi dell'art.4 comma 6, in caso di demolizione di opera incompiuta l'importo comprende gli oneri per lo smantellamento dell'opera e per la rinaturalizzazione, riqualificazione ed eventuale bonifica del sito.
A42: (9) Importo complessivo ai sensi dell'articolo 3, comma 6, ivi incluse le spese eventualmente sostenute antecedentemente alla prima annualità
A43: (10) Riporta il valore dell'eventuale immobile trasferito di cui al corrispondente immobile indicato nella scheda C
A44: (11) Riportare l’importo del capitale privato come quota parte del costo totale
A45: (12) Indica se l'intervento è stato aggiunto o stato modificato a seguito di modifica in corso d'anno ai sensi dell'art.5 commi 8 e 10. Tale campo, come la relativa nota e tabella, compaiono solo in caso di modifica del programma
...

Sheet Scheda E
A1: ALLEGATO I - SCHEDA E: PROGRAMMA TRIENNALE DELLE OPERE PUBBLICHE 2023/2025
A2: PROVINCIA DI ORISTANO
A4: INTERVENTI RICOMPRESI NELL'ELENCO ANNUALE
A7: CODICE UNICO INTERVENTO - CUI | B7: CUP | C7: DESCRIZIONE INTERVENTO | D7: RESPONSABILE UNICO DEL PROGETTO | E7: Importo annualità | F7: IMPORTO INTERVENTO | G7: Finalità | H7: Livello di priorità | I7: Conformità Urbanistica | J7: Verifica vincoli ambientali | K7: LIVELLO DI PROGETTAZIONE | L7: CENTRALE DI COMMITTENZA O SOGGETTO AGGREGATORE AL QUALE SI INTENDE DELEGARE LA PROCEDURA DI AFFIDAMENTO | N7: Intervento aggiunto o variato a seguito di modifica programma
L8: codice AUSA | M8: denominazione
A10: Codice | B10: Ereditato da scheda D | C10: Ereditato da scheda D | D10: Ereditato da scheda D | E10: Ereditato da scheda D | F10: Ereditato da scheda D | G10: Tabella E.1 | H10: Ereditato da scheda D | I10: si/no | J10: si/no | K10: Tabella E.2 | L10: codice | M10: testo | N10: Ereditato da scheda D
A11: 80004010957202300001 | B11: =+'Scheda D'!C11 -> F99J20000240002 | C11: =+'Scheda D'!N11 -> Completamento della strada di circonvallazione di Cuglieri in variante alla SS 292 | D11: =+'Scheda D'!E11 -> Marco Manai | E11: =+'Scheda D'!P11 -> 4000000 | F11: 4000000 | G11: CPA | H11: =+'Scheda D'!O11 -> 1 | I11: si | J11: si | K11: 2
A12: 80004010957202300002 | B12: F27H19000100002 /F31B21004750003 | C12: Lavori di Messa in sicurezza dei ponti sulla SP 9 sul Rio Mannu a Bauladu e sul Rio Cispiri a Milis | D12: Fabrizio Pibi | E12: 1819514.5 | F12: 1819514.5 | G12: MIS | H12: 2 | I12: si | J12: si | K12: 2
A13: 80004010957202300003 | B13: F38H22000520002 | C13: Interventi di manutenzione del reticolo idrografico della provincia di Oristano | D13: Salvatore Deiana | E13: 248121.66 | F13: 248121.66 | G13: AMB | H13: 1 | I13: si | J13: si | K13: 2
E14: =SUM(E11:E13) -> 6067636.2 | F14: =SUM(F11:F13) -> 6067636.2
A15: 80004010957202300004 | B15: F47H18000840001 | C15: Lavori di messa in sicurezza della S.P. N.15nel tratto fine abitato Ghilarza – Bivio S.S. 388 dal KM. 49+500 al KM 73+200. | D15: Piergiorgio Careddu | E15: 1512351.3 | F15: 1512351.3 | G15: MIS | H15: 1 | I15: si | J15: si | K15: 2 | N15: Intervento aggiunto
A16: 80004010957202300005 | B16: F77H20004230001 | C16: Manutenzione straordinaria della S.P. N.31 dal KM. 0+000 al KM. 8+200 e S.P. 84 dal KM. 8+900 al KM. 15+300. | D16: Piergiorgio Careddu | E16: 1420962.6 | F16: 1420962.6 | G16: MIS | H16: 1 | I16: si | J16: si | K16: 4 | N16: Intervento aggiunto
C17: IMPORTI PRIMA VARIAZIONE PIANO TRIENNALE | E17: =SUM(E14+E15+E16) -> 9000950.1 | F17: =SUM(F14+F15+F16) -> 9000950.1
A18: 80004010957202300006 | B18: F37H22001330001 | C18: MANUTENZIONE STRAORDINARIA DELLE STRADE PROVINCIALI N. 46 – TRATTO SIMALA – GONNOSCODINA, N. 37 – TRATTO BV S.P. 36 – VILLA SANT’ANTONIO E N. 35 – TRATTO AL KM 29+000. | D18: Alessandro Serra | E18: 667700 | F18: 667700 | G18: MIS | H18: 1 | I18: si | J18: si | K18: 2 | N18: Intervento aggiunto
C19: IMPORTI SECONDA VARIAZIONE PIANO TRIENNALE | E19: =(E17+E18) -> 9668650.1 | F19: =(F17+F18) -> 9668650.1
A20: 80004010957202300007 | B20: F16G23000080003 | C20: Messa in Sicurezza e Manutenzione delle Strade Provinciali dei Circoli 1 e 4 – Annualità 2023. | D20: Alessandro Serra | E20: 650589.41 | F20: 650589.41 | G20: MIS | H20: 1 | I20: si | J20: si | K20: 2 | N20: Intervento aggiunto
A21: 80004010957202300008 | B21: F16G23000090003 | C21: Messa in Sicurezza e Manutenzione delle Strade Provinciali dei Circoli 2 e 3 – Annualità 2023. | D21: Alessandro Serra | E21: 650589.41 | F21: 650589.41 | G21: MIS | H21: 1 | I21: si | J21: si | K21: 2 | N21: Intervento aggiunto
C22: IMPORTI TERZA VARIAZIONE PIANO TRIENNALE | E22: =SUM(E19:E21) -> 10969829 | F22: =SUM(F19:F21) -> 10969829
A23: 80004010957202300009 | B23: F15F21002510006 | C23: =+'Scheda D'!N28 -> CUP F15F21002510006. PNRR - MISSIONE 4 - COMPONENTE 1 – INVESTIMENTO 1.3. ("FINANZIATO DALL'UNIONE EUROPEA - NEXT GENERATION EU"). INTERVENTI DI RIQUALIFICAZIONE ARCHITETTONICA E FUNZIONALE DELLE PALESTRE DI PERTINENZA DELL'ISTITUTO POLIVALENTE SITO IN ORISTANO NELLA VIA A. DIAZ. | D23: =+'Scheda D'!E28 -> Graziano Plana | E23: =+'Scheda D'!P28 -> 79500 | F23: =+'Scheda D'!T28 -> 874500 | G23: MIS | H23: =+'Scheda D'!O28 -> 2 | I23: si | J23: si | K23: 2 | N23: Intervento aggiunto
A24: 80004010957202300010 | B24: =+'Scheda D'!C29 -> F15F22000660006 | C24: =+'Scheda D'!N29 -> CUP F15F22000660006. PNRR - MISSIONE 4 - COMPONENTE 1 – INVESTIMENTO 1.3. ("FINANZIATO DALL'UNIONE EUROPEA - NEXT GENERATION EU"). INTERVENTI DI RIQUALIFICAZIONE ARCHITETTONICA E FUNZIONALE DELLE PALESTRE DI PERTINENZA DELL'ISTITUTO LICEO SCIENTIFICO MARIANO IV SITO IN ORISTANO NELLA VIA MESSINA. | D24: =+'Scheda D'!E29 -> Graziano Plana | E24: =+'Scheda D'!P29 -> 60000 | F24: =+'Scheda D'!T29 -> 660000 | G24: MIS | H24: =+'Scheda D'!O29 -> 2 | I24: si | J24: si | K24: 2 | N24: Intervento aggiunto
C25: IMPORTI QUARTA VARIAZIONE PIANO TRIENNALE | E25: =+E22+E23+E24 -> 11109329 | F25: =+F22+F23+F24 -> 12504329
A26: 80004010957202300011 | B26: F97H18002350001 | C26: LAVORI DI MANUTENZIONE STRAORDINARIA DELLA S.P. N. 19NU BOSA - MONTRESTA - DAL KM 4+000 E KM 14+000 | D26: Alessandro Serra | E26: 1512351.6 | F26: 1512351.6 | G26: MIS | H26: 1 | I26: si | J26: si | K26: 2 | N26: Intervento aggiunto
C27: IMPORTI QUINTA VARIAZIONE PIANO TRIENNALE | E27: =SUM(E25+E26) -> 12621681 | F27: =SUM(F25+F26) -> 14016681
A30: (*) Tale campo compare solo in caso di modifica del programma
A32: Tabella E.1
A33: ADN - Adeguamento normativo
A34: AMB - Qualità ambientale
A35: COP - Completamento Opera Incompiuta | J35: Il Referente del Programma
A36: CPA - Conservazione del patrimonio | J36: Ing. Marco Manai
A37: MIS - Miglioramento e incremento di servizio
A38: URB - Qualità urbana
A39: VAB - Valorizzazione beni vincolati
A40: DEM - Demolizione Opera Incompiuta
A41: DEOP - Demolizione opere preesistenti e non più utilizzabili
A43: Tabella E.2
A44: 1. progetto di fattibilità tecnico - economica: “documento di fattibilità delle alternative progettuali”.
A45: 2. progetto di fattibilità tecnico - economica: “documento finale”.
A47: 4. progetto esecutivo
H64: =+#REF! -> #REF! | I64: =+#REF! -> #REF!
H65: =+#REF! -> #REF! | I65: =+#REF! -> #REF!

Sheet Scheda F
A1: ALLEGATO I - SCHEDA F: PROGRAMMA TRIENNALE DELLE OPERE PUBBLICHE 2023/2025
A2: PROVINCIA DI ORISTANO
A4: ELENCO DEGLI INTERVENTI PRESENTI NELL'ELENCO ANNUALE DEL PRECEDENTE PROGRAMMA TRIENNALE
A5: E NON RIPROPOSTI E NON AVVIATI
A7: CODICE UNICO INTERVENTO - CUI | B7: CUP | C7: DESCRIZIONE INTERVENTO | D7: IMPORTO INTERVENTO | E7: Livello di priorità | F7: motivo per il quale l'intervento non è riproposto (1)
A11: Codice | B11: Ereditato da precedente programma | C11: Ereditato da precedente programma | D11: Ereditato da precedente programma | E11: Ereditato da scheda D | F11: testo
D15: Il Referente del Programma
D16: Ing. Marco Manai
A20: (1) breve descrizione dei motivi
